BEGIN:VCALENDAR
VERSION:2.0
PRODID:-//Planitzer Schnitzverein 1908 e.V. - ECPv6.15.20//NONSGML v1.0//EN
CALSCALE:GREGORIAN
METHOD:PUBLISH
X-ORIGINAL-URL:https://planitzer-schnitzverein.de
X-WR-CALDESC:Veranstaltungen für Planitzer Schnitzverein 1908 e.V.
REFRESH-INTERVAL;VALUE=DURATION:PT1H
X-Robots-Tag:noindex
X-PUBLISHED-TTL:PT1H
BEGIN:VTIMEZONE
TZID:UTC
BEGIN:STANDARD
TZOFFSETFROM:+0000
TZOFFSETTO:+0000
TZNAME:UTC
DTSTART:20240101T000000
END:STANDARD
END:VTIMEZONE
BEGIN:VEVENT
DTSTART;TZID=UTC:20251130T140000
DTEND;TZID=UTC:20251130T200000
DTSTAMP:20260420T003202
CREATED:20241124T201051Z
LAST-MODIFIED:20251122T110027Z
UID:498-1764511200-1764532800@planitzer-schnitzverein.de
SUMMARY:Planitzer Schlossadvent 2025
DESCRIPTION:Seit 1998 ist es Tradition\, die Weihnachtspyramide am Planitzer Markt zum 1. Advent anzudrehen. Aufgrund der laufenden Bauarbeiten wird dies in diesem Jahr jedoch nicht möglich sein. Stattdessen findet als Ersatzveranstaltung am 1. Dezember von 14 bis 20 Uhr der „Planitzer Schlossadvent“ im Planitzer Schloss (Clara-Wieck-Gymnasium) statt. Ein besonderes Highlight: Der Planitzer Schnitzverein 1908 e.V. präsentiert das kleine Originalmodell der Planitzer Pyramide. Weiterhin wird es einen stimmungsvollen Weihnachtsmarkt sowie ein kulturelles Programm geben. Alle Planitzer\, Zwickauer Bürgerinnen und Bürger sowie Gäste sind herzlich eingeladen\, an diesem besonderen Ereignis teilzunehmen.
URL:https://planitzer-schnitzverein.de/event/planitzer-schlossadvent-2024/
LOCATION:Schloßplatz 1\, 08064 Zwickau\, Schloßplatz 1\, Zwickau\, Sachsen\, 08064\, Deutschland
ATTACH;FMTTYPE=image/png:https://planitzer-schnitzverein.de/wp-content/uploads/2024/11/plakat.png
END:VEVENT
BEGIN:VEVENT
DTSTART;TZID=UTC:20251130T140000
DTEND;TZID=UTC:20251130T220000
DTSTAMP:20260420T003202
CREATED:20231127T185034Z
LAST-MODIFIED:20251122T185119Z
UID:474-1764511200-1764540000@planitzer-schnitzverein.de
SUMMARY:Tag der offenen Tür im Planitzer Schnitzverein
DESCRIPTION:Entdecke die Welt des Planitzer Schnitzvereins! Feiere mit uns beim Tag der offenen Tür in unserem gemütlichen Schnitzerhäuschen und erlebe faszinierende Handwerkskunst und eine herzliche Gemeinschaft.
URL:https://planitzer-schnitzverein.de/event/tag-der-offene-tuer/
LOCATION:Schulstraße 7\, 08064 Zwickau\, Schulstraße 7\, Zwickau\, Sachsen\, 08064\, Deutschland
ATTACH;FMTTYPE=image/jpeg:https://planitzer-schnitzverein.de/wp-content/uploads/2023/11/Flyer-Tag-der-offenen-Tuer-2025-1-1.jpg
END:VEVENT
END:VCALENDAR