BEGIN:VCALENDAR
VERSION:2.0
PRODID:-//Planitzer Schnitzverein 1908 e.V. - ECPv6.15.20//NONSGML v1.0//EN
CALSCALE:GREGORIAN
METHOD:PUBLISH
X-ORIGINAL-URL:https://planitzer-schnitzverein.de
X-WR-CALDESC:Veranstaltungen für Planitzer Schnitzverein 1908 e.V.
REFRESH-INTERVAL;VALUE=DURATION:PT1H
X-Robots-Tag:noindex
X-PUBLISHED-TTL:PT1H
BEGIN:VTIMEZONE
TZID:UTC
BEGIN:STANDARD
TZOFFSETFROM:+0000
TZOFFSETTO:+0000
TZNAME:UTC
DTSTART:20220101T000000
END:STANDARD
END:VTIMEZONE
BEGIN:VEVENT
DTSTART;VALUE=DATE:20230212
DTEND;VALUE=DATE:20230226
DTSTAMP:20260423T082331
CREATED:20230101T214030Z
LAST-MODIFIED:20230112T185520Z
UID:260-1676160000-1677369599@planitzer-schnitzverein.de
SUMMARY:Schnitzausstellung - 115 Jahre Planitzer Schnitzverein 1908 e.V.
DESCRIPTION:Der Planitzer Schnitzverein feiert sein 115-jähriges Jubiläum mit einer großen Ausstellung. Gezeigt wird im Clara-Wieck-Gymnasium (Schloßplatz 1\, 08064 Zwickau) traditionelle Volkskunst aus dem Erzgebirge. Neben alten und neuen Schnitzereien des Vereins können unsere Gäste vielseitige Pyramiden und Schwibbögen bewundern. Highlight der Jubiläumsausstellung wird der 12 Meter lange mechanische Stülpnerberg mit über 100\, teils beweglichen Schnitzfiguren sein. Wir freuen uns ganz besonders auf Ihren Besuch! \n  \n  \n 
URL:https://planitzer-schnitzverein.de/event/schnitzausstellung-115-jahre-planitzer-schnitzverein/
LOCATION:Ausstellungsort\, Schloßplatz 1\, Zwickau\, Sachsen\, 08064
ATTACH;FMTTYPE=image/webp:https://planitzer-schnitzverein.de/wp-content/uploads/2023/01/jahre-schnitzverein-a5-favorit-klein.webp
END:VEVENT
END:VCALENDAR